BEGIN:VCALENDAR
VERSION:2.0
PRODID:-//Tukios.com/
BEGIN:VEVENT
UID:74655e88-4af2-4ecb-a7f9-f17608e6dccf@www.pattersonfuneralhomes.com
DTSTAMP:20260424T040355Z
DTSTART:20260426T200000Z
DTEND:20260426T230000Z
SUMMARY:Memorial Service
DESCRIPTION:
URL:https://www.pattersonfuneralhomes.com/obituaries/sislie-stewart
LOCATION:S.C. Bolton Community Center 1108 Pine Grove Road  Sylacauga AL 
	35150
GEO:33.2259688;-86.28197
END:VEVENT
END:VCALENDAR