BEGIN:VCALENDAR
VERSION:2.0
PRODID:-//Tukios.com/
BEGIN:VEVENT
UID:f2d74c8b-ec30-4d32-bf45-98e8763563ab@www.pattersonfuneralhomes.com
DTSTAMP:20260420T212029Z
DTSTART:20260422T173000Z
DTEND:20260422T183000Z
SUMMARY:Graveside Service
DESCRIPTION:
URL:https://www.pattersonfuneralhomes.com/obituaries/etta-gannaway
LOCATION: 1498 5th Avenue  Pleasant Grove AL 35127
GEO:33.4709513;-86.9755478
END:VEVENT
END:VCALENDAR