BEGIN:VCALENDAR
VERSION:2.0
PRODID:-//Tukios.com/
BEGIN:VEVENT
UID:d615e1a2-0f86-433e-a9db-e44fcfeb463b@www.pattersonfuneralhomes.com
DTSTAMP:20260420T212556Z
DTSTART:20260422T160000Z
DTEND:20260422T173000Z
SUMMARY:Visitation
DESCRIPTION:
URL:https://www.pattersonfuneralhomes.com/obituaries/etta-gannaway
LOCATION: 1498 5th Avenue  Pleasant Grove AL 35127
GEO:33.4709513;-86.9755478
END:VEVENT
END:VCALENDAR