BEGIN:VCALENDAR
VERSION:2.0
PRODID:-//Tukios.com/
BEGIN:VEVENT
UID:1993c3db-6c13-4605-80fe-dbc04f88fcdf@www.pattersonfuneralhomes.com
DTSTAMP:20260421T002931Z
DTSTART:20260424T190000Z
DTEND:20260424T200000Z
SUMMARY:Funeral Service
DESCRIPTION:
URL:https://www.pattersonfuneralhomes.com/obituaries/dr-morris-panter
LOCATION:First Baptist Church of Pleasant Grove 724 4th Street  Pleasant 
	Grove AL 35127
GEO:33.5004227;-86.9753132
END:VEVENT
END:VCALENDAR