BEGIN:VCALENDAR
VERSION:2.0
PRODID:-//Tukios.com/
BEGIN:VEVENT
UID:56029ff9-cf00-4230-abbb-f30b4d2697d4@www.pattersonfuneralhomes.com
DTSTAMP:20260421T002227Z
DTSTART:20260423T230000Z
DTEND:20260424T010000Z
SUMMARY:Visitation
DESCRIPTION:
URL:https://www.pattersonfuneralhomes.com/obituaries/dr-morris-panter
LOCATION:Patterson-Forest Grove Funeral Home 1498 5th Avenue  Pleasant 
	Grove AL 35127
GEO:33.4709513;-86.9755478
END:VEVENT
END:VCALENDAR